BEGIN:VCALENDAR
VERSION:2.0
PRODID:-//museo de Teruel - ECPv5.1.4//NONSGML v1.0//EN
CALSCALE:GREGORIAN
METHOD:PUBLISH
X-WR-CALNAME:museo de Teruel
X-ORIGINAL-URL:https://www.museodeteruel.es
X-WR-CALDESC:Eventos para museo de Teruel
BEGIN:VTIMEZONE
TZID:Europe/Madrid
BEGIN:DAYLIGHT
TZOFFSETFROM:+0100
TZOFFSETTO:+0200
TZNAME:CEST
DTSTART:20250330T010000
END:DAYLIGHT
BEGIN:STANDARD
TZOFFSETFROM:+0200
TZOFFSETTO:+0100
TZNAME:CET
DTSTART:20251026T010000
END:STANDARD
END:VTIMEZONE
BEGIN:VEVENT
DTSTART;TZID=Europe/Madrid:20251108T113000
DTEND;TZID=Europe/Madrid:20251108T123000
DTSTAMP:20260421T203023
CREATED:20251105T140134Z
LAST-MODIFIED:20251105T140134Z
UID:11968-1762601400-1762605000@www.museodeteruel.es
SUMMARY:Presentación del libro "Verdugos del 36" de David Alegre Lorenz.
DESCRIPTION:David Alegre Lorenz (Teruel\, 1988) es Profesor de Historia Contemporánea en la Universitat Autònoma de Barcelona. Sus principales campos de investigación son los estudios del fascismo\, la historia social y cultural de la guerra\, los estudios de la violencia y la reconstrucción comunitaria en periodos de posguerra. \n\n\n\n\n«Verdugos del 36. La maquinaria del terror en la Zaragoza golpista» es una historia de los golpistas en la ciudad de Zaragoza que retrata el perfil humano de los perpetradores que se sublevaron el verano del 36. \nLa presentación tendrá lugar en el salón de actos del Museo de Teruel. \nEntrada libre hasta completar aforo. \nOrganiza: Editorial Crítica. \n\n\n\n\n\n
URL:https://www.museodeteruel.es/agenda/presentacion-del-libro-verdugos-del-36-de-david-alegre-lorenz/
LOCATION:Museo de Teruel\, Plaza Fray Anselmo Polanco\, nº 3\, Teruel
CATEGORIES:Presentación de libros
ATTACH;FMTTYPE=image/jpeg:https://www.museodeteruel.es/wp-content/uploads/2025/11/portada_verdugos-del-36_david-alegre-lorenz_202509261257.jpg
END:VEVENT
END:VCALENDAR