BEGIN:VCALENDAR
VERSION:2.0
PRODID:-//museo de Teruel - ECPv5.1.4//NONSGML v1.0//EN
CALSCALE:GREGORIAN
METHOD:PUBLISH
X-WR-CALNAME:museo de Teruel
X-ORIGINAL-URL:https://www.museodeteruel.es
X-WR-CALDESC:Eventos para museo de Teruel
BEGIN:VTIMEZONE
TZID:Europe/Madrid
BEGIN:DAYLIGHT
TZOFFSETFROM:+0100
TZOFFSETTO:+0200
TZNAME:CEST
DTSTART:20250330T010000
END:DAYLIGHT
BEGIN:STANDARD
TZOFFSETFROM:+0200
TZOFFSETTO:+0100
TZNAME:CET
DTSTART:20251026T010000
END:STANDARD
END:VTIMEZONE
BEGIN:VEVENT
DTSTART;TZID=Europe/Madrid:20251118T190000
DTEND;TZID=Europe/Madrid:20251118T203000
DTSTAMP:20260421T203318
CREATED:20251106T070352Z
LAST-MODIFIED:20251112T095733Z
UID:11972-1763492400-1763497800@www.museodeteruel.es
SUMMARY:Presentación del libro "Orgullo rural. en bici por Teruel con Biela y Tierra"
DESCRIPTION:Después del primer libro «Biela y Tierra en ruta» Edurne Caballero y Ana Santidrián nos proponen otro cicloviaje para defender con argumentos rodados el mundo rural vivo. Teruel es la tierra escogida. Un ensayo que es también la crónica de su viaje en 2021. \nTeruel es un territorio que seduce a quienes se acercan a descubrirlo: campos infinitos de cereal\, portentosas montañas rocosas\, bosques tupidos\, valles fértiles y rincones de un pasado industrial. Las autoras de este libro recorrieron en 2021 casi 1000 km en bici por las tierras turolenses y descubrieron a personas entusiastas que no quieren abandonar sus pueblos y o que han llegado para labrar su futuro aquí. Un territorio con un gran orgullo rural: paisajes diversos y mucho amor por las raíces y la tierra. \nCon ilustraciones de Isabel Santabárbara Martos y Nylon Silvestre\, ilustradoras turolenses. Prólogo de Esther Peñarrubia.  \nUna obra que ha contado con la colaboración del Instituto de Estudios Turolenses. \nEn el salón de actos del Museo de Teruel. \nEntrada libre hasta completar aforo. \n  \n
URL:https://www.museodeteruel.es/agenda/presentacion-del-libro-orgullo-rural-en-bici-por-teruel-con-biela-y-tierra/
LOCATION:Museo de Teruel\, Plaza Fray Anselmo Polanco\, nº 3\, Teruel
CATEGORIES:Presentación de libros
ATTACH;FMTTYPE=image/jpeg:https://www.museodeteruel.es/wp-content/uploads/2025/11/Cartel-presentación-libro-Orgullo-rural.jpg
END:VEVENT
END:VCALENDAR