BEGIN:VCALENDAR
VERSION:2.0
PRODID:-//museo de Teruel - ECPv5.1.4//NONSGML v1.0//EN
CALSCALE:GREGORIAN
METHOD:PUBLISH
X-WR-CALNAME:museo de Teruel
X-ORIGINAL-URL:https://www.museodeteruel.es
X-WR-CALDESC:Eventos para museo de Teruel
BEGIN:VTIMEZONE
TZID:Europe/Madrid
BEGIN:DAYLIGHT
TZOFFSETFROM:+0100
TZOFFSETTO:+0200
TZNAME:CEST
DTSTART:20260329T010000
END:DAYLIGHT
BEGIN:STANDARD
TZOFFSETFROM:+0200
TZOFFSETTO:+0100
TZNAME:CET
DTSTART:20261025T010000
END:STANDARD
END:VTIMEZONE
BEGIN:VEVENT
DTSTART;TZID=Europe/Madrid:20260305T183000
DTEND;TZID=Europe/Madrid:20260305T203000
DTSTAMP:20260421T155849
CREATED:20260304T141719Z
LAST-MODIFIED:20260305T070135Z
UID:12122-1772735400-1772742600@www.museodeteruel.es
SUMMARY:Presentación del libro "La brecha rural" de Luis del Romero Renau
DESCRIPTION:\nPresentación del libro «La brecha rural»  por Luis del Romero Renau\, geógrafo y profesor titular en la Universitat de València. Doctor en Geografía por la Universitat Autònoma de Barcelona\, ha desarrollado una destacada trayectoria investigadora en universidades de Canadá\, Alemania\, Argentina y Chile\, y ha centrado buena parte de su trabajo en el análisis de conflictos territoriales\, procesos de despoblación rural y el estudio del patrimonio industrial y cultural. Compagina su labor académica con una activa participación en medios de comunicación como Radio 3\, TVE o Aragón Radio\, y colabora habitualmente con prensa escrita en medios como Eldiario.es y La Vanguardia. Entre otros reconocimientos\, ha recibido premios del Institut d’Estudis Catalans\, del Instituto de Estudios Turolenses y de diversas instituciones locales por su labor investigadora y divulgativa.\n \nLa presentación tendrá lugar en el salón de actos del Museo Provincial de Teruel.\n\n\nEntrada libre hasta completar aforo. \n\n
URL:https://www.museodeteruel.es/agenda/presentacion-del-libro-la-brecha-rural/
LOCATION:Museo de Teruel\, Plaza Fray Anselmo Polanco\, nº 3 44001 TERUEL\, Teruel
CATEGORIES:Presentación de libros
ATTACH;FMTTYPE=image/jpeg:https://www.museodeteruel.es/wp-content/uploads/2026/03/9788410528482_portada-scaled.jpg
END:VEVENT
END:VCALENDAR