BEGIN:VCALENDAR
VERSION:2.0
PRODID:-//museo de Teruel - ECPv5.1.4//NONSGML v1.0//EN
CALSCALE:GREGORIAN
METHOD:PUBLISH
X-WR-CALNAME:museo de Teruel
X-ORIGINAL-URL:https://www.museodeteruel.es
X-WR-CALDESC:Eventos para museo de Teruel
BEGIN:VTIMEZONE
TZID:Europe/Madrid
BEGIN:DAYLIGHT
TZOFFSETFROM:+0100
TZOFFSETTO:+0200
TZNAME:CEST
DTSTART:20240331T010000
END:DAYLIGHT
BEGIN:STANDARD
TZOFFSETFROM:+0200
TZOFFSETTO:+0100
TZNAME:CET
DTSTART:20241027T010000
END:STANDARD
END:VTIMEZONE
BEGIN:VEVENT
DTSTART;TZID=Europe/Madrid:20240502T190000
DTEND;TZID=Europe/Madrid:20240502T203000
DTSTAMP:20260421T190836
CREATED:20240430T100614Z
LAST-MODIFIED:20240502T101606Z
UID:10219-1714676400-1714681800@www.museodeteruel.es
SUMMARY:Presentación de libro de Mariano Moles
DESCRIPTION:El Instituto de Estudios Turolenses presenta el libro «El Universo a vista de pájaro» de Mariano Moles Villamate\, acompañado de una charla impartida por Vicent Martínez. \nEn el salón de actos del Museo de Teruel a las 19 h. \n
URL:https://www.museodeteruel.es/agenda/presentacion-de-libro-de-mariano-moles/
LOCATION:Museo de Teruel\, Plaza Fray Anselmo Polanco\, nº 3\, Teruel
CATEGORIES:Charlas/Conferencias
ATTACH;FMTTYPE=image/jpeg:https://www.museodeteruel.es/wp-content/uploads/2024/04/descarga-2.jpg
END:VEVENT
END:VCALENDAR