BEGIN:VCALENDAR
VERSION:2.0
PRODID:-//museo de Teruel - ECPv5.1.4//NONSGML v1.0//EN
CALSCALE:GREGORIAN
METHOD:PUBLISH
X-WR-CALNAME:museo de Teruel
X-ORIGINAL-URL:https://www.museodeteruel.es
X-WR-CALDESC:Eventos para museo de Teruel
BEGIN:VTIMEZONE
TZID:Europe/Madrid
BEGIN:DAYLIGHT
TZOFFSETFROM:+0100
TZOFFSETTO:+0200
TZNAME:CEST
DTSTART:20250330T010000
END:DAYLIGHT
BEGIN:STANDARD
TZOFFSETFROM:+0200
TZOFFSETTO:+0100
TZNAME:CET
DTSTART:20251026T010000
END:STANDARD
END:VTIMEZONE
BEGIN:VEVENT
DTSTART;TZID=Europe/Madrid:20250912T183000
DTEND;TZID=Europe/Madrid:20250912T203000
DTSTAMP:20260422T004844
CREATED:20250905T072607Z
LAST-MODIFIED:20250905T072607Z
UID:11836-1757701800-1757709000@www.museodeteruel.es
SUMMARY:Mesa redonda "Lugares que sí importan: cifras que son fechas"
DESCRIPTION:Mesa redonda Lugares que sí importan: cifras que son fechas\, con la participación de Camila Olga del Mármol Cartañá\, profesora de Antropología Política  en la Universidad de Barcelona\, Javier Esparcia Pérez\, catedrático de Análisis Geográfico Regional en la Universidad de Valencia\,  y Luis Antonio Sáez\, profesor de Economía Aplicada en la Universidad de Zaragoza y consejero científico del Instituto de Estudios Turolenses\, dentro del ciclo «Reflexiones sobre Teruel: presente y futuro»\, en el salón de actos del Museo Provincial de Teruel. \n Entrada libre hasta completar el aforo. \n
URL:https://www.museodeteruel.es/agenda/mesa-redonda-lugares-que-si-importan-cifras-que-son-fechas/
LOCATION:Museo de Teruel\, Plaza Fray Anselmo Polanco\, nº 3 44001 TERUEL\, Teruel
CATEGORIES:Mesa redonda
ATTACH;FMTTYPE=image/jpeg:https://www.museodeteruel.es/wp-content/uploads/2025/09/Cartel-mesa-redonda-12-septiembre-2025.jpg
END:VEVENT
END:VCALENDAR