BEGIN:VCALENDAR
VERSION:2.0
PRODID:-//museo de Teruel - ECPv5.1.4//NONSGML v1.0//EN
CALSCALE:GREGORIAN
METHOD:PUBLISH
X-WR-CALNAME:museo de Teruel
X-ORIGINAL-URL:https://www.museodeteruel.es
X-WR-CALDESC:Eventos para museo de Teruel
BEGIN:VTIMEZONE
TZID:Europe/Madrid
BEGIN:DAYLIGHT
TZOFFSETFROM:+0100
TZOFFSETTO:+0200
TZNAME:CEST
DTSTART:20250330T010000
END:DAYLIGHT
BEGIN:STANDARD
TZOFFSETFROM:+0200
TZOFFSETTO:+0100
TZNAME:CET
DTSTART:20251026T010000
END:STANDARD
END:VTIMEZONE
BEGIN:VEVENT
DTSTART;TZID=Europe/Madrid:20250627T183000
DTEND;TZID=Europe/Madrid:20250627T200000
DTSTAMP:20260422T052336
CREATED:20250620T111119Z
LAST-MODIFIED:20250701T093116Z
UID:11751-1751049000-1751054400@www.museodeteruel.es
SUMMARY:Mesa redonda Energías renovables.
DESCRIPTION:La mesa redonda Energías renovables\, con la participación de Javier Carroquino\, socio fundador y director de Tecnología y Estrategia en Intergia Energía Sostenible S.L.\, Jorge Moradell\, fiscal de la Fiscalía Provincial de Teruel. Sección de Medio Ambiente y Urbanismo\, Rafael Gómez-Sánchez\, ingeniero energético\, y José Miguel Delgado\, ingeniero técnico industrial eléctrico\, dentro del ciclo «Reflexiones sobre Teruel: presente y futuro». \nEntrada libre hasta completar aforo. \nTambién se podrá seguir online:  meet.google.com/ytn-qter-xkv \n  \n
URL:https://www.museodeteruel.es/agenda/mesa-redonda-energias-renovables/
LOCATION:Museo de Teruel\, Plaza Fray Anselmo Polanco\, nº 3\, Teruel
CATEGORIES:Charlas/Conferencias,Mesa redonda
ATTACH;FMTTYPE=image/jpeg:https://www.museodeteruel.es/wp-content/uploads/2025/06/Cartel-mesa-redonda-27-junio-2025.jpg
END:VEVENT
END:VCALENDAR