BEGIN:VCALENDAR
VERSION:2.0
PRODID:-//museo de Teruel - ECPv5.1.4//NONSGML v1.0//EN
CALSCALE:GREGORIAN
METHOD:PUBLISH
X-WR-CALNAME:museo de Teruel
X-ORIGINAL-URL:https://www.museodeteruel.es
X-WR-CALDESC:Eventos para museo de Teruel
BEGIN:VTIMEZONE
TZID:Europe/Madrid
BEGIN:DAYLIGHT
TZOFFSETFROM:+0100
TZOFFSETTO:+0200
TZNAME:CEST
DTSTART:20240331T010000
END:DAYLIGHT
BEGIN:STANDARD
TZOFFSETFROM:+0200
TZOFFSETTO:+0100
TZNAME:CET
DTSTART:20241027T010000
END:STANDARD
END:VTIMEZONE
BEGIN:VEVENT
DTSTART;TZID=Europe/Madrid:20241221T110000
DTEND;TZID=Europe/Madrid:20241221T130000
DTSTAMP:20260421T195032
CREATED:20241203T083018Z
LAST-MODIFIED:20241220T125733Z
UID:10542-1734778800-1734786000@www.museodeteruel.es
SUMMARY:Mesa redonda "Arqueología turolense. Pasado\, presente y futuro".
DESCRIPTION:La mesa redonda forma parte del ciclo «Reflexiones sobre Teruel: presente y futuro»\, con la participación de Dña. Marta Rubio\, graduada en Historia por la Universidad de Zaragoza\, D. Francisco Javier Castro\, arqueólogo\, Dña. Marta Blasco\, profesora de Arqueología en la Universidad de Valencia\, y Dña. Marta Pérez\, investigadora en el Consejo Superior de Investigaciones Científicas (CCHS-CSIC) \nEn el Salón de Actos del Museo Provincial de Teruel. \n
URL:https://www.museodeteruel.es/agenda/mesa-redonda-arqueologia-turolense-pasado-presente-y-futuro/
LOCATION:Museo de Teruel\, Plaza Fray Anselmo Polanco\, nº 3\, Teruel
CATEGORIES:Mesa redonda
ATTACH;FMTTYPE=image/png:https://www.museodeteruel.es/wp-content/uploads/2024/12/Ciclo-Reflexiones-sobre-Teruel-JCC.png
END:VEVENT
END:VCALENDAR