BEGIN:VCALENDAR
VERSION:2.0
PRODID:-//museo de Teruel - ECPv5.1.4//NONSGML v1.0//EN
CALSCALE:GREGORIAN
METHOD:PUBLISH
X-WR-CALNAME:museo de Teruel
X-ORIGINAL-URL:https://www.museodeteruel.es
X-WR-CALDESC:Eventos para museo de Teruel
BEGIN:VTIMEZONE
TZID:Europe/Madrid
BEGIN:DAYLIGHT
TZOFFSETFROM:+0100
TZOFFSETTO:+0200
TZNAME:CEST
DTSTART:20260329T010000
END:DAYLIGHT
BEGIN:STANDARD
TZOFFSETFROM:+0200
TZOFFSETTO:+0100
TZNAME:CET
DTSTART:20261025T010000
END:STANDARD
END:VTIMEZONE
BEGIN:VEVENT
DTSTART;TZID=Europe/Madrid:20260228T103000
DTEND;TZID=Europe/Madrid:20260301T133000
DTSTAMP:20260421T160329
CREATED:20260223T075753Z
LAST-MODIFIED:20260223T075753Z
UID:12082-1772274600-1772371800@www.museodeteruel.es
SUMMARY:Juego en familia "Vita"
DESCRIPTION:Plazas limitadas. \nInformación e inscripciones en: https://muilab.es/ \n  \n
URL:https://www.museodeteruel.es/agenda/juego-en-familia-vita/
LOCATION:Museo de Teruel\, Plaza Fray Anselmo Polanco\, nº 3\, Teruel
CATEGORIES:Actividades didácticas
ATTACH;FMTTYPE=image/jpeg:https://www.museodeteruel.es/wp-content/uploads/2026/02/Post-2.jpeg
END:VEVENT
END:VCALENDAR