BEGIN:VCALENDAR
VERSION:2.0
PRODID:-//museo de Teruel - ECPv5.1.4//NONSGML v1.0//EN
CALSCALE:GREGORIAN
METHOD:PUBLISH
X-WR-CALNAME:museo de Teruel
X-ORIGINAL-URL:https://www.museodeteruel.es
X-WR-CALDESC:Eventos para museo de Teruel
BEGIN:VTIMEZONE
TZID:Europe/Madrid
BEGIN:DAYLIGHT
TZOFFSETFROM:+0100
TZOFFSETTO:+0200
TZNAME:CEST
DTSTART:20250330T010000
END:DAYLIGHT
BEGIN:STANDARD
TZOFFSETFROM:+0200
TZOFFSETTO:+0100
TZNAME:CET
DTSTART:20251026T010000
END:STANDARD
END:VTIMEZONE
BEGIN:VEVENT
DTSTART;TZID=Europe/Madrid:20250731T200000
DTEND;TZID=Europe/Madrid:20250731T200000
DTSTAMP:20260422T021954
CREATED:20250725T065356Z
LAST-MODIFIED:20250725T065542Z
UID:11777-1753992000-1753992000@www.museodeteruel.es
SUMMARY:Inauguración "Medio Lleno. Javier Jaén"
DESCRIPTION:La exposición permanecerá abierta hasta el 19 de octubre de 2025.\nHorario: Martes a viernes de 10 a 14 h y de 16 a 21 h.\nSábados y domingos de 10 a 14 h.\nFestivos de 10 a 14 h y de 16 a 19 h. Lunes cerrado. \n
URL:https://www.museodeteruel.es/agenda/inauguracion-medio-lleno-javier-jaen/
LOCATION:Museo de Teruel\, Plaza Fray Anselmo Polanco\, nº 3\, Teruel
CATEGORIES:Inauguración
ATTACH;FMTTYPE=image/jpeg:https://www.museodeteruel.es/wp-content/uploads/2025/07/invitacion-mediolleno-javierjaen-teruel-BAJA-scaled-e1753426395642.jpg
ORGANIZER;CN="Museo%20de%20Teruel":MAILTO:museo@dpteruel.es
END:VEVENT
END:VCALENDAR