BEGIN:VCALENDAR
VERSION:2.0
PRODID:-//museo de Teruel - ECPv5.1.4//NONSGML v1.0//EN
CALSCALE:GREGORIAN
METHOD:PUBLISH
X-WR-CALNAME:museo de Teruel
X-ORIGINAL-URL:https://www.museodeteruel.es
X-WR-CALDESC:Eventos para museo de Teruel
BEGIN:VTIMEZONE
TZID:Atlantic/Azores
BEGIN:DAYLIGHT
TZOFFSETFROM:-0100
TZOFFSETTO:+0000
TZNAME:+00
DTSTART:20180325T010000
END:DAYLIGHT
BEGIN:STANDARD
TZOFFSETFROM:+0000
TZOFFSETTO:-0100
TZNAME:-01
DTSTART:20181028T010000
END:STANDARD
END:VTIMEZONE
BEGIN:VEVENT
DTSTART;VALUE=DATE:20180405
DTEND;VALUE=DATE:20180406
DTSTAMP:20260421T125644
CREATED:20180410T120139Z
LAST-MODIFIED:20180410T123134Z
UID:6065-1522886400-1522972799@www.museodeteruel.es
SUMMARY:Exposición "Instalación 1005" de Remedios Clérigues\, hasta el 15 de abril
DESCRIPTION:Exposición Instalación 1005\, de Remedios Clérigues.\nMaqueta de la escultura realizada para los Pozos de Caudé\, En recuerdo de las más de mil mujeres torturadas\, vejadas\, represaliadas\, asesinadas y vencidas pero no derrotadas\, como homenaje a las mujeres que fueron triplemente víctimas como mujeres\, esposas y madres en la Guerra Civil y posterior dictadura. Audiovisual y esculturas de figuras femeninas danzantes hechas con residuos de materiales encontrados en las trincheras de Teruel.\n \nHall del salón de actos del Museo de Teruel\, hasta el 15 de abril.\n
URL:https://www.museodeteruel.es/agenda/exposicion-instalacion-de-remedios-clerigues-hasta-el-15-de-abril/
LOCATION:Museo de Teruel\, Plaza Fray Anselmo Polanco\, nº 3\, Teruel
CATEGORIES:Arte contemporáneo
ATTACH;FMTTYPE=image/jpeg:https://www.museodeteruel.es/wp-content/uploads/2018/04/IMG_8143.jpg
END:VEVENT
END:VCALENDAR