BEGIN:VCALENDAR
VERSION:2.0
PRODID:-//museo de Teruel - ECPv5.1.4//NONSGML v1.0//EN
CALSCALE:GREGORIAN
METHOD:PUBLISH
X-WR-CALNAME:museo de Teruel
X-ORIGINAL-URL:https://www.museodeteruel.es
X-WR-CALDESC:Eventos para museo de Teruel
BEGIN:VTIMEZONE
TZID:Europe/Madrid
BEGIN:DAYLIGHT
TZOFFSETFROM:+0100
TZOFFSETTO:+0200
TZNAME:CEST
DTSTART:20250330T010000
END:DAYLIGHT
BEGIN:STANDARD
TZOFFSETFROM:+0200
TZOFFSETTO:+0100
TZNAME:CET
DTSTART:20251026T010000
END:STANDARD
END:VTIMEZONE
BEGIN:VEVENT
DTSTART;TZID=Europe/Madrid:20250904T220000
DTEND;TZID=Europe/Madrid:20250904T235500
DTSTAMP:20260422T021954
CREATED:20250829T072108Z
LAST-MODIFIED:20250903T060715Z
UID:11833-1757023200-1757030100@www.museodeteruel.es
SUMMARY:Emisión en directo de La noche en 24 horas
DESCRIPTION:Los servicios informativos de RTVE emiten en directo desde el Museo el programa La noche en 24 horas. Dicho programa es el inicio de la temporada 2025/2026. \nhttps://www.rtve.es/noticias/la-noche-en-24-horas/ \n
URL:https://www.museodeteruel.es/agenda/emision-en-directo-de-la-noche-en-24-horas/
LOCATION:Museo de Teruel\, Plaza Fray Anselmo Polanco\, nº 3\, Teruel
ATTACH;FMTTYPE=image/png:https://www.museodeteruel.es/wp-content/uploads/2025/08/logo.png
END:VEVENT
END:VCALENDAR