BEGIN:VCALENDAR
VERSION:2.0
PRODID:-//museo de Teruel - ECPv5.1.4//NONSGML v1.0//EN
CALSCALE:GREGORIAN
METHOD:PUBLISH
X-WR-CALNAME:museo de Teruel
X-ORIGINAL-URL:https://www.museodeteruel.es
X-WR-CALDESC:Eventos para museo de Teruel
BEGIN:VTIMEZONE
TZID:Europe/Helsinki
BEGIN:DAYLIGHT
TZOFFSETFROM:+0200
TZOFFSETTO:+0300
TZNAME:EEST
DTSTART:20180325T010000
END:DAYLIGHT
BEGIN:STANDARD
TZOFFSETFROM:+0300
TZOFFSETTO:+0200
TZNAME:EET
DTSTART:20181028T010000
END:STANDARD
END:VTIMEZONE
BEGIN:VEVENT
DTSTART;VALUE=DATE:20180324
DTEND;VALUE=DATE:20180325
DTSTAMP:20260421T143033
CREATED:20180223T192526Z
LAST-MODIFIED:20180323T090727Z
UID:5966-1521849600-1521935999@www.museodeteruel.es
SUMMARY:Conferencia "Teruel\, cine y Guerra Civil"
DESCRIPTION:  \nConferencia: “Teruel\, cine y Guerra Civil”. \nA cargo de Magí Crusells\, Profesor de la Universidad de Barcelona. \nEn ese mismo acto se presentará el libro\nLas películas que vio Franco (y que no todos pudieron disfrutar). Cine en El Pardo\, 1946-1975\nEscrito por el profesor Crusells y el Catedrático Emérito de Historia Contemporánea de la Universidad de Barcelona D. José María Caparrós. \nEn el salón de actos del Museo de Teruel a las 12:00 h.                                               \n
URL:https://www.museodeteruel.es/agenda/conferencia-teruel-cine-y-guerra-civil/
LOCATION:Museo de Teruel\, Plaza Fray Anselmo Polanco\, nº 3\, Teruel
CATEGORIES:Charlas/Conferencias,Cine
ATTACH;FMTTYPE=image/jpeg:https://www.museodeteruel.es/wp-content/uploads/2018/02/fotomagicrusells.jpg
END:VEVENT
END:VCALENDAR