BEGIN:VCALENDAR
VERSION:2.0
PRODID:-//museo de Teruel - ECPv5.1.4//NONSGML v1.0//EN
CALSCALE:GREGORIAN
METHOD:PUBLISH
X-WR-CALNAME:museo de Teruel
X-ORIGINAL-URL:https://www.museodeteruel.es
X-WR-CALDESC:Eventos para museo de Teruel
BEGIN:VTIMEZONE
TZID:Europe/Madrid
BEGIN:DAYLIGHT
TZOFFSETFROM:+0100
TZOFFSETTO:+0200
TZNAME:CEST
DTSTART:20250330T010000
END:DAYLIGHT
BEGIN:STANDARD
TZOFFSETFROM:+0200
TZOFFSETTO:+0100
TZNAME:CET
DTSTART:20251026T010000
END:STANDARD
END:VTIMEZONE
BEGIN:VEVENT
DTSTART;TZID=Europe/Madrid:20250926T193000
DTEND;TZID=Europe/Madrid:20250926T210000
DTSTAMP:20260421T231906
CREATED:20250915T063349Z
LAST-MODIFIED:20250915T063349Z
UID:11840-1758915000-1758920400@www.museodeteruel.es
SUMMARY:Conferencia de Javier Jaén
DESCRIPTION:Con motivo de la exposición ‘Medio lleno’ de Javier Jaén\, el Museo de Teruel ofrecerá el viernes 26 de septiembre una conferencia a cargo del reconocido diseñador gráfico e ilustrador Javier Jaén. La actividad\, que tendrá lugar en el salón de actos a las 19:30 horas\, será de acceso libre y gratuito hasta completar aforo.  \n
URL:https://www.museodeteruel.es/agenda/conferencia-de-javier-jaen/
LOCATION:Museo de Teruel\, Plaza Fray Anselmo Polanco\, nº 3\, Teruel
CATEGORIES:Charlas/Conferencias
ATTACH;FMTTYPE=image/png:https://www.museodeteruel.es/wp-content/uploads/2025/09/Conferencia-de-Javier-Jaén.png
END:VEVENT
END:VCALENDAR