BEGIN:VCALENDAR
VERSION:2.0
PRODID:-//museo de Teruel - ECPv5.1.4//NONSGML v1.0//EN
CALSCALE:GREGORIAN
METHOD:PUBLISH
X-WR-CALNAME:museo de Teruel
X-ORIGINAL-URL:https://www.museodeteruel.es
X-WR-CALDESC:Eventos para museo de Teruel
BEGIN:VTIMEZONE
TZID:Europe/Helsinki
BEGIN:DAYLIGHT
TZOFFSETFROM:+0200
TZOFFSETTO:+0300
TZNAME:EEST
DTSTART:20180325T010000
END:DAYLIGHT
BEGIN:STANDARD
TZOFFSETFROM:+0300
TZOFFSETTO:+0200
TZNAME:EET
DTSTART:20181028T010000
END:STANDARD
END:VTIMEZONE
BEGIN:VEVENT
DTSTART;VALUE=DATE:20180323
DTEND;VALUE=DATE:20180324
DTSTAMP:20260421T145349
CREATED:20180223T192036Z
LAST-MODIFIED:20180223T192825Z
UID:5963-1521763200-1521849599@www.museodeteruel.es
SUMMARY:Concierto Música de Cámara. Fundación Cai
DESCRIPTION:Concierto Música de Cámara \nServicio Cultural. Fundación Caja Inmaculada en Teruel. \nEn el Salón de actos del Museo de Teruel a las  20:00 h. \n
URL:https://www.museodeteruel.es/agenda/concierto-musica-de-camara-fundacion-cai/
LOCATION:Museo de Teruel\, Plaza Fray Anselmo Polanco\, nº 3\, Teruel
CATEGORIES:Música
ATTACH;FMTTYPE=image/jpeg:https://www.museodeteruel.es/wp-content/uploads/2018/02/musica-de-camara.jpg
END:VEVENT
END:VCALENDAR