BEGIN:VCALENDAR
VERSION:2.0
PRODID:-//museo de Teruel - ECPv5.1.4//NONSGML v1.0//EN
CALSCALE:GREGORIAN
METHOD:PUBLISH
X-WR-CALNAME:museo de Teruel
X-ORIGINAL-URL:https://www.museodeteruel.es
X-WR-CALDESC:Eventos para museo de Teruel
BEGIN:VTIMEZONE
TZID:Atlantic/Azores
BEGIN:DAYLIGHT
TZOFFSETFROM:-0100
TZOFFSETTO:+0000
TZNAME:+00
DTSTART:20180325T010000
END:DAYLIGHT
BEGIN:STANDARD
TZOFFSETFROM:+0000
TZOFFSETTO:-0100
TZNAME:-01
DTSTART:20181028T010000
END:STANDARD
END:VTIMEZONE
BEGIN:VEVENT
DTSTART;VALUE=DATE:20181220
DTEND;VALUE=DATE:20181221
DTSTAMP:20260421T185407
CREATED:20181204T082047Z
LAST-MODIFIED:20181204T082047Z
UID:6556-1545264000-1545350399@www.museodeteruel.es
SUMMARY:Concierto alumnos de violín
DESCRIPTION:Concierto alumnos de violín. \nConservatorio Profesional de Música. \nEn el Salón de actos del Museo de Teruel a  las  19:00 h. \n
URL:https://www.museodeteruel.es/agenda/concierto-alumnos-de-violin/
CATEGORIES:Música
ATTACH;FMTTYPE=image/jpeg:https://www.museodeteruel.es/wp-content/uploads/2018/12/violin-1.jpg
END:VEVENT
END:VCALENDAR