BEGIN:VCALENDAR
VERSION:2.0
PRODID:-//museo de Teruel - ECPv5.1.4//NONSGML v1.0//EN
CALSCALE:GREGORIAN
METHOD:PUBLISH
X-WR-CALNAME:museo de Teruel
X-ORIGINAL-URL:https://www.museodeteruel.es
X-WR-CALDESC:Eventos para museo de Teruel
BEGIN:VTIMEZONE
TZID:Europe/Madrid
BEGIN:DAYLIGHT
TZOFFSETFROM:+0100
TZOFFSETTO:+0200
TZNAME:CEST
DTSTART:20250330T010000
END:DAYLIGHT
BEGIN:STANDARD
TZOFFSETFROM:+0200
TZOFFSETTO:+0100
TZNAME:CET
DTSTART:20251026T010000
END:STANDARD
END:VTIMEZONE
BEGIN:VEVENT
DTSTART;TZID=Europe/Madrid:20250304T190000
DTEND;TZID=Europe/Madrid:20250304T203000
DTSTAMP:20260421T151726
CREATED:20250227T114909Z
LAST-MODIFIED:20250227T114909Z
UID:11331-1741114800-1741120200@www.museodeteruel.es
SUMMARY:Ciclo de conferencias "Creadoras 2. Arte español en los siglos XX y XXI"
DESCRIPTION:Creadoras 2. Arte español en los siglos XX y XXI profundiza en las aportaciones plásticas de las artistas contemporáneas que representan las tendencias que surgen en el panorama artístico nacional. \nDesde las creadoras surrealistas como Maruja Mallo y Remedios Varo\, pasando por Juana Francés como representante destacada del Informalismo\, o creadoras próximas al Pop\, como Isabel Oliver y Ángela García Codoñer. \nHablaremos del arte normativo y computacional representado por Elena Asins y de las artistas del entorno performático como Esther Ferrer y Concha Jerez. \nCerraremos el ciclo con una revisión de las propuestas de algunas artistas imprescindibles en el cambio de siglo: Soledad Sevilla\, Carmen Calvo\, Cristina Iglesias\, Susana Solano y Eva Lootz sin olvidarnos de las aportaciones de las creadoras aragonesas más recientes. \nEn el Salón de Actos del Museo Provincial de Teruel. \nMás info en https://www.fundacionibercaja.es/actividades/cursos-y-talleres/creadoras-2-arte-espanol-en-los-siglos-xx-y-xxi-teruel/ \n
URL:https://www.museodeteruel.es/agenda/ciclo-de-conferencias-creadoras-2-arte-espanol-en-los-siglos-xx-y-xxi-2/
LOCATION:Museo de Teruel\, Plaza Fray Anselmo Polanco\, nº 3\, Teruel
CATEGORIES:Charlas/Conferencias
END:VEVENT
END:VCALENDAR