BEGIN:VCALENDAR
VERSION:2.0
PRODID:-//museo de Teruel - ECPv5.1.4//NONSGML v1.0//EN
CALSCALE:GREGORIAN
METHOD:PUBLISH
X-WR-CALNAME:museo de Teruel
X-ORIGINAL-URL:https://www.museodeteruel.es
X-WR-CALDESC:Eventos para museo de Teruel
BEGIN:VTIMEZONE
TZID:Europe/Madrid
BEGIN:DAYLIGHT
TZOFFSETFROM:+0100
TZOFFSETTO:+0200
TZNAME:CEST
DTSTART:20250330T010000
END:DAYLIGHT
BEGIN:STANDARD
TZOFFSETFROM:+0200
TZOFFSETTO:+0100
TZNAME:CET
DTSTART:20251026T010000
END:STANDARD
END:VTIMEZONE
BEGIN:VEVENT
DTSTART;TZID=Europe/Madrid:20250131T200000
DTEND;TZID=Europe/Madrid:20250131T220000
DTSTAMP:20260421T195202
CREATED:20250103T113818Z
LAST-MODIFIED:20250103T113818Z
UID:11179-1738353600-1738360800@www.museodeteruel.es
SUMMARY:Charla-Coloquio de la Asociación Taurina de Abonados y Aficionados de la Plaza de Toros de Teruel (UTATE)
DESCRIPTION:En el Salón de Actos del Museo Provincial de Teruel. \nCon la presencia del Presidente de la Asociación «Tres Puyazos»\, Madrid.  \n
URL:https://www.museodeteruel.es/agenda/charla-coloquio-de-la-asociacion-taurina-de-abonados-y-aficionados-de-la-plaza-de-toros-de-teruel-utate/
LOCATION:Museo de Teruel\, Plaza Fray Anselmo Polanco\, nº 3\, Teruel
CATEGORIES:Charlas/Conferencias
END:VEVENT
END:VCALENDAR