BEGIN:VCALENDAR
VERSION:2.0
PRODID:-//museo de Teruel - ECPv5.1.4//NONSGML v1.0//EN
CALSCALE:GREGORIAN
METHOD:PUBLISH
X-WR-CALNAME:museo de Teruel
X-ORIGINAL-URL:https://www.museodeteruel.es
X-WR-CALDESC:Eventos para museo de Teruel
BEGIN:VTIMEZONE
TZID:Europe/Madrid
BEGIN:DAYLIGHT
TZOFFSETFROM:+0100
TZOFFSETTO:+0200
TZNAME:CEST
DTSTART:20250330T010000
END:DAYLIGHT
BEGIN:STANDARD
TZOFFSETFROM:+0200
TZOFFSETTO:+0100
TZNAME:CET
DTSTART:20251026T010000
END:STANDARD
END:VTIMEZONE
BEGIN:VEVENT
DTSTART;TZID=Europe/Madrid:20251121T180000
DTEND;TZID=Europe/Madrid:20251121T200000
DTSTAMP:20260421T203318
CREATED:20251118T132825Z
LAST-MODIFIED:20251118T132825Z
UID:11993-1763748000-1763755200@www.museodeteruel.es
SUMMARY:Charla “50 años de España en libertad”: Mesa redonda del colectivo LGTBIQ+.
DESCRIPTION:En el salón de actos. \nEntrada libre hasta completar aforo. \n
URL:https://www.museodeteruel.es/agenda/charla-50-anos-de-espana-en-libertad-mesa-redonda-del-colectivo-lgtbiq/
LOCATION:Museo de Teruel\, Plaza Fray Anselmo Polanco\, nº 3\, Teruel
CATEGORIES:Charlas/Conferencias,Mesa redonda
ATTACH;FMTTYPE=image/jpeg:https://www.museodeteruel.es/wp-content/uploads/2025/11/facebook_1763471869607_7396537116580718419.jpg
END:VEVENT
END:VCALENDAR