BEGIN:VCALENDAR
VERSION:2.0
PRODID:-//museo de Teruel - ECPv5.1.4//NONSGML v1.0//EN
CALSCALE:GREGORIAN
METHOD:PUBLISH
X-WR-CALNAME:museo de Teruel
X-ORIGINAL-URL:https://www.museodeteruel.es
X-WR-CALDESC:Eventos para museo de Teruel
BEGIN:VTIMEZONE
TZID:Europe/Madrid
BEGIN:DAYLIGHT
TZOFFSETFROM:+0100
TZOFFSETTO:+0200
TZNAME:CEST
DTSTART:20230326T010000
END:DAYLIGHT
BEGIN:STANDARD
TZOFFSETFROM:+0200
TZOFFSETTO:+0100
TZNAME:CET
DTSTART:20231029T010000
END:STANDARD
END:VTIMEZONE
BEGIN:VEVENT
DTSTART;TZID=Europe/Madrid:20230428T110000
DTEND;TZID=Europe/Madrid:20230428T120000
DTSTAMP:20260422T164150
CREATED:20230419T070831Z
LAST-MODIFIED:20230419T071343Z
UID:9821-1682679600-1682683200@www.museodeteruel.es
SUMMARY:Actos San Jorge 2023
DESCRIPTION:Entrega de los Premios  de Narración y Pintura San Jorge de la Diputación Provincial de Teruel. Apertura de la exposición de las obras premiadas\, abierta al público hasta el día 1 de mayo. \nEn el salón de actos del Museo de Teruel a las 11 h. \n
URL:https://www.museodeteruel.es/agenda/actos-san-jorge-2023/
LOCATION:Museo de Teruel\, Plaza Fray Anselmo Polanco\, nº 3\, Teruel
CATEGORIES:Narración,Premios
END:VEVENT
END:VCALENDAR