BEGIN:VCALENDAR
VERSION:2.0
PRODID:-//museo de Teruel - ECPv5.1.4//NONSGML v1.0//EN
CALSCALE:GREGORIAN
METHOD:PUBLISH
X-WR-CALNAME:museo de Teruel
X-ORIGINAL-URL:https://www.museodeteruel.es
X-WR-CALDESC:Eventos para museo de Teruel
BEGIN:VTIMEZONE
TZID:Europe/Madrid
BEGIN:DAYLIGHT
TZOFFSETFROM:+0100
TZOFFSETTO:+0200
TZNAME:CEST
DTSTART:20250330T010000
END:DAYLIGHT
BEGIN:STANDARD
TZOFFSETFROM:+0200
TZOFFSETTO:+0100
TZNAME:CET
DTSTART:20251026T010000
END:STANDARD
END:VTIMEZONE
BEGIN:VEVENT
DTSTART;TZID=Europe/Madrid:20250515T200000
DTEND;TZID=Europe/Madrid:20250515T210000
DTSTAMP:20260422T120528
CREATED:20250509T070216Z
LAST-MODIFIED:20250509T072629Z
UID:11508-1747339200-1747342800@www.museodeteruel.es
SUMMARY:Inauguración exposición "esenciaeiou. Caterina Burgos".
DESCRIPTION:Esta exposición recorre la trayectoria de Caterina Burgos\, en palabras de su comisario Leo Tena\, una de las artistas más influyentes del grabado y la creación matérica en España. La muestra explora cuatro series clave de Burgos\, incluyendo su innovadora serie aeiou\, donde descompone y reimagina sus obras anteriores mediante collages y esculturas de papel.  \nesenciaeiou destaca la evolución de la artista desde sus primeros grabados en la serie Infancia (1993) —inspirados en la maternidad y realizados con técnicas poco convencionales— hasta Mujeres Escalera (2003)\, icono feminista que obtuvo el Premio Nacional de Grabado Contemporáneo. \n  \n \n
URL:https://www.museodeteruel.es/agenda/inauguracion-exposicion-esenciaeiou-caterina-burgos/
LOCATION:Museo de Teruel\, Plaza Fray Anselmo Polanco\, nº 3\, Teruel
CATEGORIES:Arte contemporáneo,Artistas locales,Día Internacional de los Museos,Inauguración
ATTACH;FMTTYPE=image/jpeg:https://www.museodeteruel.es/wp-content/uploads/2025/05/Exposiciones-Proximas.jpg
ORGANIZER;CN="Museo%20de%20Teruel":MAILTO:museo@dpteruel.es
END:VEVENT
END:VCALENDAR