BEGIN:VCALENDAR
VERSION:2.0
PRODID:-//museo de Teruel - ECPv5.1.4//NONSGML v1.0//EN
CALSCALE:GREGORIAN
METHOD:PUBLISH
X-WR-CALNAME:museo de Teruel
X-ORIGINAL-URL:https://www.museodeteruel.es
X-WR-CALDESC:Eventos para museo de Teruel
BEGIN:VTIMEZONE
TZID:Europe/Madrid
BEGIN:DAYLIGHT
TZOFFSETFROM:+0100
TZOFFSETTO:+0200
TZNAME:CEST
DTSTART:20260329T010000
END:DAYLIGHT
BEGIN:STANDARD
TZOFFSETFROM:+0200
TZOFFSETTO:+0100
TZNAME:CET
DTSTART:20261025T010000
END:STANDARD
END:VTIMEZONE
BEGIN:VEVENT
DTSTART;TZID=Europe/Madrid:20260320T190000
DTEND;TZID=Europe/Madrid:20260320T203000
DTSTAMP:20260421T142902
CREATED:20260318T070500Z
LAST-MODIFIED:20260318T070500Z
UID:12142-1774033200-1774038600@www.museodeteruel.es
SUMMARY:Conferencia "La polarización y el debate público"
DESCRIPTION:D. Alejandro Navas García\, Doctor en Filosofía y experto en Sociología\, participará por segunda vez en el Ciclo de conferencias «Conversaciones con Luz Propia». En esta ocasión\, D. Alejandro hablará sobre «La polarización y el debate público» algo tan palpable en nuestra sociedad que puede ser un acicate para asistir\, debatir y ver si el ciudadano de a pie puede enfrentar la polarización. \nEn el salón de actos del Museo de Teruel. \nEntrada libre hasta completar aforo. \n
URL:https://www.museodeteruel.es/agenda/conferencia-la-polarizacion-y-el-debate-publico/
LOCATION:Museo de Teruel\, Plaza Fray Anselmo Polanco\, nº 3\, Teruel
CATEGORIES:Charlas/Conferencias
ATTACH;FMTTYPE=image/jpeg:https://www.museodeteruel.es/wp-content/uploads/2026/03/facebook_1772780139831_7435578831617551932-2.jpg
END:VEVENT
END:VCALENDAR