BEGIN:VCALENDAR
VERSION:2.0
PRODID:-//museo de Teruel - ECPv5.1.4//NONSGML v1.0//EN
CALSCALE:GREGORIAN
METHOD:PUBLISH
X-WR-CALNAME:museo de Teruel
X-ORIGINAL-URL:https://www.museodeteruel.es
X-WR-CALDESC:Eventos para museo de Teruel
BEGIN:VTIMEZONE
TZID:Europe/Madrid
BEGIN:DAYLIGHT
TZOFFSETFROM:+0100
TZOFFSETTO:+0200
TZNAME:CEST
DTSTART:20260329T010000
END:DAYLIGHT
BEGIN:STANDARD
TZOFFSETFROM:+0200
TZOFFSETTO:+0100
TZNAME:CET
DTSTART:20261025T010000
END:STANDARD
END:VTIMEZONE
BEGIN:VEVENT
DTSTART;TZID=Europe/Madrid:20260213T190000
DTEND;TZID=Europe/Madrid:20260213T203000
DTSTAMP:20260421T160055
CREATED:20260129T135928Z
LAST-MODIFIED:20260129T140246Z
UID:12056-1771009200-1771014600@www.museodeteruel.es
SUMMARY:Conferencia "Fernando el Católico. El gran olvidado de la aventura americana"
DESCRIPTION:Conferencia «Fernando el Católico» a cargo de D. Luis Antequera\, historiador y escritor. \nLa presentación tendrá lugar en el salón de actos del Museo Provincial de Teruel. \nEntrada libre hasta completar aforo. \n
URL:https://www.museodeteruel.es/agenda/conferencia-fernando-el-catolico-el-gran-olvidado-de-la-aventura-americana/
LOCATION:Museo de Teruel\, Plaza Fray Anselmo Polanco\, nº 3\, Teruel
CATEGORIES:Charlas/Conferencias,Historia
ATTACH;FMTTYPE=image/jpeg:https://www.museodeteruel.es/wp-content/uploads/2026/01/WhatsApp-Image-2026-01-20-at-08.47.58.jpeg
END:VEVENT
END:VCALENDAR