BEGIN:VCALENDAR
VERSION:2.0
PRODID:-//museo de Teruel - ECPv5.1.4//NONSGML v1.0//EN
CALSCALE:GREGORIAN
METHOD:PUBLISH
X-WR-CALNAME:museo de Teruel
X-ORIGINAL-URL:https://www.museodeteruel.es
X-WR-CALDESC:Eventos para museo de Teruel
BEGIN:VTIMEZONE
TZID:Europe/Madrid
BEGIN:DAYLIGHT
TZOFFSETFROM:+0100
TZOFFSETTO:+0200
TZNAME:CEST
DTSTART:20250330T010000
END:DAYLIGHT
BEGIN:STANDARD
TZOFFSETFROM:+0200
TZOFFSETTO:+0100
TZNAME:CET
DTSTART:20251026T010000
END:STANDARD
END:VTIMEZONE
BEGIN:VEVENT
DTSTART;TZID=Europe/Madrid:20251126T190000
DTEND;TZID=Europe/Madrid:20251126T210000
DTSTAMP:20260421T203112
CREATED:20251110T112041Z
LAST-MODIFIED:20251120T103446Z
UID:11988-1764183600-1764190800@www.museodeteruel.es
SUMMARY:Gala de Premios a la Educación Rural
DESCRIPTION:Entrada libre hasta completar el aforo.\n  \n  \n
URL:https://www.museodeteruel.es/agenda/entrega-de-premios-sobre-educacion-rural-de-la-catedra-diputacion-de-teruel-educacion-y-territorio/
LOCATION:Museo de Teruel\, Plaza Fray Anselmo Polanco\, nº 3\, Teruel
CATEGORIES:Charlas/Conferencias,Premios
ATTACH;FMTTYPE=image/jpeg:https://www.museodeteruel.es/wp-content/uploads/2025/11/Cartel-Gala-DPT-Educacion-y-Territorio.jpg
END:VEVENT
END:VCALENDAR