BEGIN:VCALENDAR
VERSION:2.0
PRODID:-//museo de Teruel - ECPv5.1.4//NONSGML v1.0//EN
CALSCALE:GREGORIAN
METHOD:PUBLISH
X-WR-CALNAME:museo de Teruel
X-ORIGINAL-URL:https://www.museodeteruel.es
X-WR-CALDESC:Eventos para museo de Teruel
BEGIN:VTIMEZONE
TZID:Europe/Madrid
BEGIN:DAYLIGHT
TZOFFSETFROM:+0100
TZOFFSETTO:+0200
TZNAME:CEST
DTSTART:20250330T010000
END:DAYLIGHT
BEGIN:STANDARD
TZOFFSETFROM:+0200
TZOFFSETTO:+0100
TZNAME:CET
DTSTART:20251026T010000
END:STANDARD
END:VTIMEZONE
BEGIN:VEVENT
DTSTART;TZID=Europe/Madrid:20251017T190000
DTEND;TZID=Europe/Madrid:20251017T203000
DTSTAMP:20260421T215314
CREATED:20251008T111747Z
LAST-MODIFIED:20251009T073757Z
UID:11864-1760727600-1760733000@www.museodeteruel.es
SUMMARY:Conferencia "Los medios de comunicación: ¿mentira\, posverdad o verdad?"
DESCRIPTION:Dentro de la IV edición del ciclo Conversaciones con Luz Propia. \nPonente: D. Raúl Mayoral Benito\, abogado y empresario. \nLa conferencia tendrá lugar en el salón de actos del Museo de Teruel. \n
URL:https://www.museodeteruel.es/agenda/conferencia-los-medios-de-comunicacion-mentira-posverdad-o-verdad/
LOCATION:Museo de Teruel\, Plaza Fray Anselmo Polanco\, nº 3\, Teruel
CATEGORIES:Charlas/Conferencias
ATTACH;FMTTYPE=image/jpeg:https://www.museodeteruel.es/wp-content/uploads/2025/10/0.jpg
END:VEVENT
END:VCALENDAR