BEGIN:VCALENDAR
VERSION:2.0
PRODID:-//museo de Teruel - ECPv5.1.4//NONSGML v1.0//EN
CALSCALE:GREGORIAN
METHOD:PUBLISH
X-WR-CALNAME:museo de Teruel
X-ORIGINAL-URL:https://www.museodeteruel.es
X-WR-CALDESC:Eventos para museo de Teruel
BEGIN:VTIMEZONE
TZID:Europe/Madrid
BEGIN:DAYLIGHT
TZOFFSETFROM:+0100
TZOFFSETTO:+0200
TZNAME:CEST
DTSTART:20250330T010000
END:DAYLIGHT
BEGIN:STANDARD
TZOFFSETFROM:+0200
TZOFFSETTO:+0100
TZNAME:CET
DTSTART:20251026T010000
END:STANDARD
END:VTIMEZONE
BEGIN:VEVENT
DTSTART;TZID=Europe/Madrid:20250215T103000
DTEND;TZID=Europe/Madrid:20250215T120000
DTSTAMP:20260421T194834
CREATED:20250205T070110Z
LAST-MODIFIED:20250205T071239Z
UID:11219-1739615400-1739620800@www.museodeteruel.es
SUMMARY:Actividad en familia "Entretejidos"
DESCRIPTION:Las telas\, los hilos y otros materiales flexibles serán nuestra materia prima. Lo que se teja en cada encuentro será único\, fruto de la creatividad y el movimiento de cada familia.\nHemos preparado tres sesiones de Muilab para niños de 1 a 6 años y una sesión especial de Muilab+ para niños de 7 a 11 años\, pensadas para que familias con niños pequeños y mayores puedan disfrutar de esta experiencia creativa y enriquecedora.\nSábado sesiones Muilab  de 1 hora 10:30 y 12:00. \nPrecio niño+adulto 15€. Adulto extra 5€. Niño extra 10€. \n ¡Os esperamos para entrelazar juntos nuevas historias!\nInscripciones a través de https://muilab.es/ \n
URL:https://www.museodeteruel.es/agenda/actividad-en-familiaentretejidos/
LOCATION:Museo de Teruel\, Plaza Fray Anselmo Polanco\, nº 3\, Teruel
CATEGORIES:Actividades didácticas
ATTACH;FMTTYPE=image/jpeg:https://www.museodeteruel.es/wp-content/uploads/2025/02/Entretejidos-5.jpg
END:VEVENT
END:VCALENDAR