BEGIN:VCALENDAR
VERSION:2.0
PRODID:-//museo de Teruel - ECPv5.1.4//NONSGML v1.0//EN
CALSCALE:GREGORIAN
METHOD:PUBLISH
X-WR-CALNAME:museo de Teruel
X-ORIGINAL-URL:https://www.museodeteruel.es
X-WR-CALDESC:Eventos para museo de Teruel
BEGIN:VTIMEZONE
TZID:Atlantic/Azores
BEGIN:DAYLIGHT
TZOFFSETFROM:-0100
TZOFFSETTO:+0000
TZNAME:+00
DTSTART:20180325T010000
END:DAYLIGHT
BEGIN:STANDARD
TZOFFSETFROM:+0000
TZOFFSETTO:-0100
TZNAME:-01
DTSTART:20181028T010000
END:STANDARD
END:VTIMEZONE
BEGIN:VEVENT
DTSTART;VALUE=DATE:20181208
DTEND;VALUE=DATE:20181209
DTSTAMP:20260421T084316
CREATED:20181204T080945Z
LAST-MODIFIED:20181204T081015Z
UID:6548-1544227200-1544313599@www.museodeteruel.es
SUMMARY:FESTIFOLK España. Reunión
DESCRIPTION:Reunión de la Federación Española de Festivales Internacionales de Foklore. FESTIFOLK-España. \nEn el Salón de Actos del Museo de Teruel\, de 10:30 a 12:30 h. y de 16:30 a 18:30 h. \n
URL:https://www.museodeteruel.es/agenda/festifolk-espana-reunion/
LOCATION:Museo de Teruel\, Plaza Fray Anselmo Polanco\, nº 3\, Teruel
ATTACH;FMTTYPE=image/jpeg:https://www.museodeteruel.es/wp-content/uploads/2018/12/festifolk.jpg
END:VEVENT
END:VCALENDAR