BEGIN:VCALENDAR
VERSION:2.0
PRODID:-//museo de Teruel - ECPv5.1.4//NONSGML v1.0//EN
CALSCALE:GREGORIAN
METHOD:PUBLISH
X-WR-CALNAME:museo de Teruel
X-ORIGINAL-URL:https://www.museodeteruel.es
X-WR-CALDESC:Eventos para museo de Teruel
BEGIN:VTIMEZONE
TZID:Europe/Helsinki
BEGIN:DAYLIGHT
TZOFFSETFROM:+0200
TZOFFSETTO:+0300
TZNAME:EEST
DTSTART:20180325T010000
END:DAYLIGHT
BEGIN:STANDARD
TZOFFSETFROM:+0300
TZOFFSETTO:+0200
TZNAME:EET
DTSTART:20181028T010000
END:STANDARD
END:VTIMEZONE
BEGIN:VEVENT
DTSTART;TZID=Europe/Helsinki:20180610T100000
DTEND;TZID=Europe/Helsinki:20180610T140000
DTSTAMP:20260421T095929
CREATED:20180515T115638Z
LAST-MODIFIED:20180515T122619Z
UID:6172-1528624800-1528639200@www.museodeteruel.es
SUMMARY:Se clausura la exposición "Siempre permaneceréis en nuestro recuerdo. 30 aniversario del atentado contra la casa cuartel de Zaragoza"
DESCRIPTION:Último día de la exposición «Siempre permaneceréis en nuestro recuerdo.\n30 aniversario del atentado contra la casa cuartel de Zaragoza». \n
URL:https://www.museodeteruel.es/agenda/siempre-permanecereis-en-nuestro-recuerdo-30-aniversario-del-atentado-contra-la-casa-cuartel-de-zaragoza-2/
ATTACH;FMTTYPE=image/jpeg:https://www.museodeteruel.es/wp-content/uploads/2018/05/CARTEL-ANUNCIADOR_TERUEL_A4.jpg
END:VEVENT
END:VCALENDAR