BEGIN:VCALENDAR
VERSION:2.0
PRODID:-//museo de Teruel - ECPv5.1.4//NONSGML v1.0//EN
CALSCALE:GREGORIAN
METHOD:PUBLISH
X-WR-CALNAME:museo de Teruel
X-ORIGINAL-URL:https://www.museodeteruel.es
X-WR-CALDESC:Eventos para museo de Teruel
BEGIN:VTIMEZONE
TZID:Europe/Helsinki
BEGIN:DAYLIGHT
TZOFFSETFROM:+0200
TZOFFSETTO:+0300
TZNAME:EEST
DTSTART:20180325T010000
END:DAYLIGHT
BEGIN:STANDARD
TZOFFSETFROM:+0300
TZOFFSETTO:+0200
TZNAME:EET
DTSTART:20181028T010000
END:STANDARD
END:VTIMEZONE
BEGIN:VEVENT
DTSTART;TZID=Europe/Helsinki:20180520T100000
DTEND;TZID=Europe/Helsinki:20180520T140000
DTSTAMP:20260423T075543
CREATED:20180511T114954Z
LAST-MODIFIED:20180511T120241Z
UID:6157-1526810400-1526824800@www.museodeteruel.es
SUMMARY:Último día de la exposición “Ciudad desvastada. 80 Aniversario de la Batalla de Teruel”
DESCRIPTION:Último día de la exposición “Ciudad desvastada. 80 Aniversario de la Batalla de Teruel”.\nSalas de exposiciones temporales del Museo. \n
URL:https://www.museodeteruel.es/agenda/6157/
CATEGORIES:Fotografía,Historia
ATTACH;FMTTYPE=image/jpeg:https://www.museodeteruel.es/wp-content/uploads/2018/05/02-149.jpg
END:VEVENT
END:VCALENDAR