BEGIN:VCALENDAR
VERSION:2.0
PRODID:-//museo de Teruel - ECPv5.1.4//NONSGML v1.0//EN
CALSCALE:GREGORIAN
METHOD:PUBLISH
X-WR-CALNAME:museo de Teruel
X-ORIGINAL-URL:https://www.museodeteruel.es
X-WR-CALDESC:Eventos para museo de Teruel
BEGIN:VTIMEZONE
TZID:Atlantic/Azores
BEGIN:DAYLIGHT
TZOFFSETFROM:-0100
TZOFFSETTO:+0000
TZNAME:+00
DTSTART:20180325T010000
END:DAYLIGHT
BEGIN:STANDARD
TZOFFSETFROM:+0000
TZOFFSETTO:-0100
TZNAME:-01
DTSTART:20181028T010000
END:STANDARD
END:VTIMEZONE
BEGIN:VEVENT
DTSTART;VALUE=DATE:20180320
DTEND;VALUE=DATE:20180321
DTSTAMP:20260423T102340
CREATED:20180223T143204Z
LAST-MODIFIED:20180309T134749Z
UID:5960-1521504000-1521590399@www.museodeteruel.es
SUMMARY:Exposición "Ciudad devastada. 80 aniversario de la batalla de Teruel"
DESCRIPTION:Inauguración de la exposición “Ciudad desvastada. 80 Aniversario de la Batalla de Teruel” \nMuseo de Teruel a las 20:00 h. \n
URL:https://www.museodeteruel.es/agenda/exposicion-ciudad-devastada-80-aniversario-de-la-batalla-de-teruel/
LOCATION:Museo de Teruel\, Plaza Fray Anselmo Polanco\, nº 3\, Teruel
ATTACH;FMTTYPE=image/jpeg:https://www.museodeteruel.es/wp-content/uploads/2018/03/3-Ciudad-devastada.jpg
END:VEVENT
END:VCALENDAR