BEGIN:VCALENDAR
VERSION:2.0
PRODID:-//museo de Teruel - ECPv5.1.4//NONSGML v1.0//EN
CALSCALE:GREGORIAN
METHOD:PUBLISH
X-WR-CALNAME:museo de Teruel
X-ORIGINAL-URL:https://www.museodeteruel.es
X-WR-CALDESC:Eventos para museo de Teruel
BEGIN:VTIMEZONE
TZID:Atlantic/Azores
BEGIN:DAYLIGHT
TZOFFSETFROM:-0100
TZOFFSETTO:+0000
TZNAME:+00
DTSTART:20180325T010000
END:DAYLIGHT
BEGIN:STANDARD
TZOFFSETFROM:+0000
TZOFFSETTO:-0100
TZNAME:-01
DTSTART:20181028T010000
END:STANDARD
END:VTIMEZONE
BEGIN:VEVENT
DTSTART;VALUE=DATE:20180119
DTEND;VALUE=DATE:20180120
DTSTAMP:20260425T115514
CREATED:20180117T142510Z
LAST-MODIFIED:20180129T123230Z
UID:5811-1516320000-1516406399@www.museodeteruel.es
SUMMARY:Charla-coloquio UTATE
DESCRIPTION:Charla-coloquio organizada por la Unión Taurina de Abonados y Aficionados de la Plaza de Toros de Teruel. \nSalón de actos del Museo de Teruel\, 20.00 horas  \n
URL:https://www.museodeteruel.es/agenda/charla-coloquio-utate/
LOCATION:Museo de Teruel\, Plaza Fray Anselmo Polanco\, nº 3 44001 TERUEL\, Teruel
CATEGORIES:Charlas/Conferencias
ATTACH;FMTTYPE=image/jpeg:https://www.museodeteruel.es/wp-content/uploads/2018/01/descarga-e1516196673637.jpg
END:VEVENT
END:VCALENDAR