BEGIN:VCALENDAR
VERSION:2.0
PRODID:-//museo de Teruel - ECPv5.1.4//NONSGML v1.0//EN
CALSCALE:GREGORIAN
METHOD:PUBLISH
X-WR-CALNAME:museo de Teruel
X-ORIGINAL-URL:https://www.museodeteruel.es
X-WR-CALDESC:Eventos para museo de Teruel
BEGIN:VTIMEZONE
TZID:Europe/Helsinki
BEGIN:DAYLIGHT
TZOFFSETFROM:+0200
TZOFFSETTO:+0300
TZNAME:EEST
DTSTART:20170326T010000
END:DAYLIGHT
BEGIN:STANDARD
TZOFFSETFROM:+0300
TZOFFSETTO:+0200
TZNAME:EET
DTSTART:20171029T010000
END:STANDARD
END:VTIMEZONE
BEGIN:VEVENT
DTSTART;VALUE=DATE:20171221
DTEND;VALUE=DATE:20171222
DTSTAMP:20260425T143139
CREATED:20171127T121051Z
LAST-MODIFIED:20250607T092316Z
UID:5730-1513814400-1513900799@www.museodeteruel.es
SUMMARY:Inauguración de la exposición Al margen del amor.
DESCRIPTION:Inauguración de la exposición \nAl margen del amor. \nEl Museo de Teruel inaugura la exposición Al margen del amor\, a las 20:00 h. \nDel 21 de diciembre de 2017 al 25 de febrero de 2018.  \n
URL:https://www.museodeteruel.es/agenda/inauguracion-de-la-exposicion-al-margen-del-amor/
LOCATION:Museo de Teruel\, Plaza Fray Anselmo Polanco\, nº 3\, Teruel
CATEGORIES:Fotografía,Instalación,Pintura,Vídeo
END:VEVENT
END:VCALENDAR