BEGIN:VCALENDAR
VERSION:2.0
PRODID:-//museo de Teruel - ECPv5.1.4//NONSGML v1.0//EN
CALSCALE:GREGORIAN
METHOD:PUBLISH
X-WR-CALNAME:museo de Teruel
X-ORIGINAL-URL:https://www.museodeteruel.es
X-WR-CALDESC:Eventos para museo de Teruel
BEGIN:VTIMEZONE
TZID:Atlantic/Azores
BEGIN:DAYLIGHT
TZOFFSETFROM:-0100
TZOFFSETTO:+0000
TZNAME:+00
DTSTART:20170326T010000
END:DAYLIGHT
BEGIN:STANDARD
TZOFFSETFROM:+0000
TZOFFSETTO:-0100
TZNAME:-01
DTSTART:20171029T010000
END:STANDARD
END:VTIMEZONE
BEGIN:VEVENT
DTSTART;VALUE=DATE:20171219
DTEND;VALUE=DATE:20171220
DTSTAMP:20260425T143138
CREATED:20171127T120537Z
LAST-MODIFIED:20171127T120607Z
UID:5724-1513641600-1513727999@www.museodeteruel.es
SUMMARY:Concierto de piano
DESCRIPTION:Concierto de piano\nOrganizado por el Conservatorio Profesional de Música \nel próximo martes día 19 a las 18:30 en el salón de actos del Museo de Teruel. \n
URL:https://www.museodeteruel.es/agenda/5724/
LOCATION:Museo de Teruel\, Plaza Fray Anselmo Polanco\, nº 3\, Teruel
CATEGORIES:Música
END:VEVENT
END:VCALENDAR