BEGIN:VCALENDAR
VERSION:2.0
PRODID:-//museo de Teruel - ECPv5.1.4//NONSGML v1.0//EN
CALSCALE:GREGORIAN
METHOD:PUBLISH
X-WR-CALNAME:museo de Teruel
X-ORIGINAL-URL:https://www.museodeteruel.es
X-WR-CALDESC:Eventos para museo de Teruel
BEGIN:VTIMEZONE
TZID:Atlantic/Azores
BEGIN:DAYLIGHT
TZOFFSETFROM:-0100
TZOFFSETTO:+0000
TZNAME:+00
DTSTART:20170326T010000
END:DAYLIGHT
BEGIN:STANDARD
TZOFFSETFROM:+0000
TZOFFSETTO:-0100
TZNAME:-01
DTSTART:20171029T010000
END:STANDARD
END:VTIMEZONE
BEGIN:VEVENT
DTSTART;VALUE=DATE:20171205
DTEND;VALUE=DATE:20171206
DTSTAMP:20260425T143138
CREATED:20171108T110135Z
LAST-MODIFIED:20171115T113525Z
UID:5683-1512432000-1512518399@www.museodeteruel.es
SUMMARY:Presentación del libro de la exposición de  Gonzalo Tena 1971-2017. La textualidad de la pintura.
DESCRIPTION:  \nPresentación del libro: \n«Gonzalo Tena 1971-2017. La textualidad de la pintura» \nque complementa la exposición del mismo nombre. \nPresentado por Óscar Alonso Molina. \nSalón de actos del Museo de Teruel a las 20:00 h.  \n
URL:https://www.museodeteruel.es/agenda/presentacion-del-catalogo-de-la-exposicion-de-gonzalo-tena-1971-2017-la-textualidad-de-la-pintura/
LOCATION:Museo de Teruel\, Plaza Fray Anselmo Polanco\, nº 3\, Teruel
CATEGORIES:Pintura
ATTACH;FMTTYPE=image/jpeg:https://www.museodeteruel.es/wp-content/uploads/2017/11/Gonzalo-Tena.jpg
END:VEVENT
END:VCALENDAR