BEGIN:VCALENDAR
VERSION:2.0
PRODID:-//museo de Teruel - ECPv5.1.4//NONSGML v1.0//EN
CALSCALE:GREGORIAN
METHOD:PUBLISH
X-WR-CALNAME:museo de Teruel
X-ORIGINAL-URL:https://www.museodeteruel.es
X-WR-CALDESC:Eventos para museo de Teruel
BEGIN:VTIMEZONE
TZID:Atlantic/Azores
BEGIN:DAYLIGHT
TZOFFSETFROM:-0100
TZOFFSETTO:+0000
TZNAME:+00
DTSTART:20170326T010000
END:DAYLIGHT
BEGIN:STANDARD
TZOFFSETFROM:+0000
TZOFFSETTO:-0100
TZNAME:-01
DTSTART:20171029T010000
END:STANDARD
END:VTIMEZONE
BEGIN:VEVENT
DTSTART;VALUE=DATE:20171110
DTEND;VALUE=DATE:20171111
DTSTAMP:20260425T154407
CREATED:20171010T150348Z
LAST-MODIFIED:20171108T104936Z
UID:5552-1510272000-1510358399@www.museodeteruel.es
SUMMARY:Ciclo de Jóvenes Intérpretes: “Festival Internacional de Panticosa”. Concierto Quartet Altimira.
DESCRIPTION:Ciclo de Jóvenes Intérpretes: “Festival Internacional de Panticosa”. Concierto Quartet Altimira. \nFormado por Luis Peña (violín)\, Joan Mestre (violín)\, David Andújar (viola) y Mariona Tuset (cello)\nObras de Haydn\, Barber y Shostakovich. \nOrganiza Fundación Caja Inmaculada.\nEn el salón de actos del Museo de Teruel a las 20.00 h.     \n  \n
URL:https://www.museodeteruel.es/agenda/concierto-festival-radical-db/
LOCATION:Museo de Teruel\, Plaza Fray Anselmo Polanco\, nº 3\, Teruel
CATEGORIES:Música
ATTACH;FMTTYPE=image/jpeg:https://www.museodeteruel.es/wp-content/uploads/2017/10/Quartet-Altimira.jpg
END:VEVENT
END:VCALENDAR