BEGIN:VCALENDAR
VERSION:2.0
PRODID:-//museo de Teruel - ECPv5.1.4//NONSGML v1.0//EN
CALSCALE:GREGORIAN
METHOD:PUBLISH
X-WR-CALNAME:museo de Teruel
X-ORIGINAL-URL:https://www.museodeteruel.es
X-WR-CALDESC:Eventos para museo de Teruel
BEGIN:VTIMEZONE
TZID:Atlantic/Azores
BEGIN:DAYLIGHT
TZOFFSETFROM:-0100
TZOFFSETTO:+0000
TZNAME:+00
DTSTART:20170326T010000
END:DAYLIGHT
BEGIN:STANDARD
TZOFFSETFROM:+0000
TZOFFSETTO:-0100
TZNAME:-01
DTSTART:20171029T010000
END:STANDARD
END:VTIMEZONE
BEGIN:VEVENT
DTSTART;VALUE=DATE:20171101
DTEND;VALUE=DATE:20171102
DTSTAMP:20260425T154134
CREATED:20170929T084650Z
LAST-MODIFIED:20171010T150555Z
UID:5495-1509494400-1509580799@www.museodeteruel.es
SUMMARY:Continúa la exposición hasta el 10 de diciembre: Gonzalo Tena / 1971-2017. La textualidad de la pintura
DESCRIPTION:Continúa la exposición hasta el 10 de diciembre: \nGonzalo Tena / 1971-2017 \n La textualidad de la pintura  \nen el Museo de Teruel y en el Museo Salvador Victoria de Rubielos de Mora.  \n  \n
URL:https://www.museodeteruel.es/agenda/continua-la-exposicion-gonzalo-tena-1971-2017-la-textualidad-de-la-pintura/
LOCATION:Museo de Teruel\, Plaza Fray Anselmo Polanco\, nº 3\, Teruel
CATEGORIES:Pintura
ATTACH;FMTTYPE=image/jpeg:https://www.museodeteruel.es/wp-content/uploads/2017/09/GTena_invitacion.jpg
END:VEVENT
END:VCALENDAR