BEGIN:VCALENDAR
VERSION:2.0
PRODID:-//museo de Teruel - ECPv5.1.4//NONSGML v1.0//EN
CALSCALE:GREGORIAN
METHOD:PUBLISH
X-WR-CALNAME:museo de Teruel
X-ORIGINAL-URL:https://www.museodeteruel.es
X-WR-CALDESC:Eventos para museo de Teruel
BEGIN:VTIMEZONE
TZID:Atlantic/Azores
BEGIN:DAYLIGHT
TZOFFSETFROM:-0100
TZOFFSETTO:+0000
TZNAME:+00
DTSTART:20170326T010000
END:DAYLIGHT
BEGIN:STANDARD
TZOFFSETFROM:+0000
TZOFFSETTO:-0100
TZNAME:-01
DTSTART:20171029T010000
END:STANDARD
END:VTIMEZONE
BEGIN:VEVENT
DTSTART;VALUE=DATE:20171027
DTEND;VALUE=DATE:20171028
DTSTAMP:20260425T165325
CREATED:20171010T150902Z
LAST-MODIFIED:20171010T150902Z
UID:5555-1509062400-1509148799@www.museodeteruel.es
SUMMARY:Concierto Cygnus Trío
DESCRIPTION:Concierto Cygnus Trío\nViolín\, violonchelo y piano. \nOrganiza Servicio Cultural CAI. \n20:00 h.  \n
URL:https://www.museodeteruel.es/agenda/concierto-cygnus-trio/
LOCATION:Museo de Teruel\, Plaza Fray Anselmo Polanco\, nº 3\, Teruel
CATEGORIES:Música
ATTACH;FMTTYPE=image/jpeg:https://www.museodeteruel.es/wp-content/uploads/2017/10/Cygnus-Trio.jpg
END:VEVENT
END:VCALENDAR