BEGIN:VCALENDAR
VERSION:2.0
PRODID:-//museo de Teruel - ECPv5.1.4//NONSGML v1.0//EN
CALSCALE:GREGORIAN
METHOD:PUBLISH
X-WR-CALNAME:museo de Teruel
X-ORIGINAL-URL:https://www.museodeteruel.es
X-WR-CALDESC:Eventos para museo de Teruel
BEGIN:VTIMEZONE
TZID:Europe/Paris
BEGIN:DAYLIGHT
TZOFFSETFROM:+0100
TZOFFSETTO:+0200
TZNAME:CEST
DTSTART:20170326T010000
END:DAYLIGHT
BEGIN:STANDARD
TZOFFSETFROM:+0200
TZOFFSETTO:+0100
TZNAME:CET
DTSTART:20171029T010000
END:STANDARD
END:VTIMEZONE
BEGIN:VEVENT
DTSTART;VALUE=DATE:20170728
DTEND;VALUE=DATE:20170729
DTSTAMP:20260425T205414
CREATED:20170726T085942Z
LAST-MODIFIED:20170726T102526Z
UID:5069-1501200000-1501286399@www.museodeteruel.es
SUMMARY:Cristina García Rodero. Con la boca abierta
DESCRIPTION:Cristina García Rodero. Con la boca abierta\, Festival Teruel Punto Photo. \n(28/7/2017 a 24/9/2017) \nInauguración de la exposición a las 20:00 h. \n  \n
URL:https://www.museodeteruel.es/agenda/28-7-2017cristina-garcia-rodero-con-la-boca-abierta/
LOCATION:Museo de Teruel\, Plaza Fray Anselmo Polanco\, nº 3\, Teruel
CATEGORIES:Fotografía
ATTACH;FMTTYPE=image/jpeg:https://www.museodeteruel.es/wp-content/uploads/2017/07/Cristina-Garcia.jpg
END:VEVENT
BEGIN:VEVENT
DTSTART;VALUE=DATE:20170728
DTEND;VALUE=DATE:20170729
DTSTAMP:20260425T205414
CREATED:20170726T091731Z
LAST-MODIFIED:20170727T101922Z
UID:5078-1501200000-1501286399@www.museodeteruel.es
SUMMARY:Exposición “Amor y Muerte”. Sociedad Fotográfica Turolense.
DESCRIPTION:Exposición “Amor y Muerte”. Sociedad Fotográfica Turolense. \nLOGIA (28/7/2017 a 31/8/2017) \nInauguración a las 21:00 h. \n  \n                        \n\n\n\nUge Fuertes\n \nPedro Blesa\n\n\n\n            \n«Cuando desde el Ayuntamiento se nos invitó a participar en el 800 Aniversario de los Amantes\, desde la Sociedad Fotográfica Turolense y el Festival Internacional de Fotografía Teruel Punto Photo\, supimos que teníamos que hacer algo especial\, diferente\, algo extraordinario. \nDecidimos enfocar la leyenda de Isabel y Diego desde un punto de vista nuevo\, y propusimos como tema «El Amor y la Muerte». Las reglas eran sencillas y a la vez difíciles: fotografiar el amor y la muerte en una sola imagen o en dos interrelacionadas\, evitando en lo posible\, las escenas clásicas del mausoleo o la recreación de las bodas. \nBajo el comisariado de Selma Terzic ha surgido una bella exposición que da lugar a toda una serie de interpretaciones que aúnan esa dualidad desde diferentes prismas y objetivos. A cada fotografía acompaña un texto alusivo a la imagen representada. \nResultado de ello es la exposición que albergará la Logia del Museo de Teruel\, un reflejo de lo que es la SFT\, variedad y unidad\, donde tienen cabida gente experimentada y noveles\, la luz y las sombras\, el amor y la muerte. \nAutores: Uge Fuertes\, Pedro Blesa\, Conchita Serrano\, Javier Auñón\, Juan J. Marqués\, Angel Mallén\, Selma Terzic\, M. Angeles Pérez\, Pedro Javier Pascual\, Gonzalo Montón\, Santi Albertos\, Sonsoles Valdivia y Leo Tena.» \n
URL:https://www.museodeteruel.es/agenda/exposicion-amor-y-muerte-sociedad-fotografica-turolense/
LOCATION:Museo de Teruel\, Plaza Fray Anselmo Polanco\, nº 3\, Teruel
CATEGORIES:Fotografía
ATTACH;FMTTYPE=image/jpeg:https://www.museodeteruel.es/wp-content/uploads/2017/07/TPH.jpg
END:VEVENT
END:VCALENDAR