BEGIN:VCALENDAR
VERSION:2.0
PRODID:-//museo de Teruel - ECPv5.1.4//NONSGML v1.0//EN
CALSCALE:GREGORIAN
METHOD:PUBLISH
X-WR-CALNAME:museo de Teruel
X-ORIGINAL-URL:https://www.museodeteruel.es
X-WR-CALDESC:Eventos para museo de Teruel
BEGIN:VTIMEZONE
TZID:Europe/Helsinki
BEGIN:DAYLIGHT
TZOFFSETFROM:+0200
TZOFFSETTO:+0300
TZNAME:EEST
DTSTART:20170326T010000
END:DAYLIGHT
BEGIN:STANDARD
TZOFFSETFROM:+0300
TZOFFSETTO:+0200
TZNAME:EET
DTSTART:20171029T010000
END:STANDARD
END:VTIMEZONE
BEGIN:VEVENT
DTSTART;VALUE=DATE:20170518
DTEND;VALUE=DATE:20170519
DTSTAMP:20260425T234041
CREATED:20180208T123820Z
LAST-MODIFIED:20180208T123820Z
UID:5937-1495065600-1495151999@www.museodeteruel.es
SUMMARY:Inauguración de la exposición "Benítez Mellado: la documentación del arte rupestre en Teruel\, 1921-1943"
DESCRIPTION:Inauguración de la exposición «Benítez Mellado: la documentación del arte rupestre en Teruel\, 1921-1943». \nActividad del Día Internacional de los Museos. \nSala de lectura de la Biblioteca\, 20.30 horas. \nHasta el 28 de mayo. \n
URL:https://www.museodeteruel.es/agenda/inauguracion-de-la-exposicion-benitez-mellado-la-documentacion-del-arte-rupestre-en-teruel-1921-1943/
LOCATION:Museo de Teruel\, Plaza Fray Anselmo Polanco\, nº 3\, Teruel
CATEGORIES:Arqueología
ATTACH;FMTTYPE=image/jpeg:https://www.museodeteruel.es/wp-content/uploads/2018/02/Foto-2.-Cueva-de-las-Olivanas.jpg
END:VEVENT
END:VCALENDAR